BEGIN:VCALENDAR
VERSION:2.0
PRODID:-//High School High Scholar - ECPv6.15.14//NONSGML v1.0//EN
CALSCALE:GREGORIAN
METHOD:PUBLISH
X-ORIGINAL-URL:https://hs2.crms.org
X-WR-CALDESC:Events for High School High Scholar
REFRESH-INTERVAL;VALUE=DURATION:PT1H
X-Robots-Tag:noindex
X-PUBLISHED-TTL:PT1H
BEGIN:VTIMEZONE
TZID:America/Denver
BEGIN:DAYLIGHT
TZOFFSETFROM:-0700
TZOFFSETTO:-0600
TZNAME:MDT
DTSTART:20210314T090000
END:DAYLIGHT
BEGIN:STANDARD
TZOFFSETFROM:-0600
TZOFFSETTO:-0700
TZNAME:MST
DTSTART:20211107T080000
END:STANDARD
BEGIN:DAYLIGHT
TZOFFSETFROM:-0700
TZOFFSETTO:-0600
TZNAME:MDT
DTSTART:20220313T090000
END:DAYLIGHT
BEGIN:STANDARD
TZOFFSETFROM:-0600
TZOFFSETTO:-0700
TZNAME:MST
DTSTART:20221106T080000
END:STANDARD
BEGIN:DAYLIGHT
TZOFFSETFROM:-0700
TZOFFSETTO:-0600
TZNAME:MDT
DTSTART:20230312T090000
END:DAYLIGHT
BEGIN:STANDARD
TZOFFSETFROM:-0600
TZOFFSETTO:-0700
TZNAME:MST
DTSTART:20231105T080000
END:STANDARD
END:VTIMEZONE
BEGIN:VEVENT
DTSTART;VALUE=DATE:20220621
DTEND;VALUE=DATE:20220622
DTSTAMP:20260425T083138
CREATED:20220511T205302Z
LAST-MODIFIED:20220511T205302Z
UID:4520-1655769600-1655855999@hs2.crms.org
SUMMARY:Student Orientation
DESCRIPTION:
URL:https://hs2.crms.org/calendar/student-orientation/
CATEGORIES:Community
END:VEVENT
BEGIN:VEVENT
DTSTART;VALUE=DATE:20220621
DTEND;VALUE=DATE:20220622
DTSTAMP:20260425T083138
CREATED:20220511T205323Z
LAST-MODIFIED:20220511T205323Z
UID:4522-1655769600-1655855999@hs2.crms.org
SUMMARY:Convocation Dinner
DESCRIPTION:
URL:https://hs2.crms.org/calendar/convocation-dinner-2/
CATEGORIES:Community
END:VEVENT
END:VCALENDAR